BEGIN:VCALENDAR
VERSION:2.0
PRODID:-//RIGHTHERE//CALENDARIZE IT V3.2//EN
BEGIN:VEVENT
UID:8842-events@doula.link
DTSTART:20180909T160000Z
DTEND:20180909T173000Z
DTSTAMP:20180825T153611Z
SUMMARY:Рожая с удовольствием: ключевые стра
 тегии в подготовке к экстатическим рода
 
DESCRIPTION:Шейла Камара Хэй\, Екатерина Баран
 ва
URL:https://doula.link/events/ekstaticheskie-rody/
ORGANIZER;CN=Doula Link:MAILTO:admin@doula.ru
END:VEVENT
END:VCALENDAR