BEGIN:VCALENDAR
VERSION:2.0
PRODID:-//RIGHTHERE//CALENDARIZE IT V3.2//EN
BEGIN:VEVENT
UID:8810-events@doula.link
DTSTART:20180908T070000Z
DTEND:20180908T080000Z
DTSTAMP:20180825T143203Z
SUMMARY:Открытие конференции. Культура родо
  вокруг нас и индивидуальный опыт женщи
 ы
DESCRIPTION:Ирина Сергеева\, Екатерина Житомир
 ская-Шехтман
URL:https://doula.link/events/otkrytie-konferentsii/
ORGANIZER;CN=Doula Link:MAILTO:admin@doula.ru
END:VEVENT
END:VCALENDAR