BEGIN:VCALENDAR
VERSION:2.0
PRODID:-//RIGHTHERE//CALENDARIZE IT V3.2//EN
BEGIN:VEVENT
UID:11758-events@doula.link
DTSTART:20190328T070000Z
DTEND:20190328T110000Z
DTSTAMP:20190326T153232Z
SUMMARY:Индукция родов
URL:https://doula.link/events/labour_induction/
ORGANIZER;CN=Doula Link:MAILTO:admin@doula.ru
END:VEVENT
END:VCALENDAR