BEGIN:VCALENDAR
VERSION:2.0
PRODID:-//RIGHTHERE//CALENDARIZE IT V3.2//EN
BEGIN:VEVENT
UID:10433-events@doula.link
DTSTART:20190212T140000Z
DTEND:20190212T150000Z
DTSTAMP:20190120T170843Z
SUMMARY:[Отменено] Естественный ресурс орган
 изма
URL:https://doula.link/events/sadovaya-tamara/
ORGANIZER;CN=Doula Link:MAILTO:admin@doula.ru
END:VEVENT
END:VCALENDAR